BEGIN:VCALENDAR
VERSION:2.0
PRODID:-//Home &amp; Design Magazine - ECPv5.9.1//NONSGML v1.0//EN
CALSCALE:GREGORIAN
METHOD:PUBLISH
X-WR-CALNAME:Home &amp; Design Magazine
X-ORIGINAL-URL:https://www.homeanddesign.com
X-WR-CALDESC:Events for Home &amp; Design Magazine
BEGIN:VTIMEZONE
TZID:America/New_York
BEGIN:DAYLIGHT
TZOFFSETFROM:-0500
TZOFFSETTO:-0400
TZNAME:EDT
DTSTART:20180311T070000
END:DAYLIGHT
BEGIN:STANDARD
TZOFFSETFROM:-0400
TZOFFSETTO:-0500
TZNAME:EST
DTSTART:20181104T060000
END:STANDARD
END:VTIMEZONE
BEGIN:VEVENT
DTSTART;VALUE=DATE:20180217
DTEND;VALUE=DATE:20180611
DTSTAMP:20260419T195258
CREATED:20171220T155820Z
LAST-MODIFIED:20210611T150036Z
UID:68425-1518825600-1528675199@www.homeanddesign.com
SUMMARY:The Artistic Table
DESCRIPTION:Marjorie Merriweather Post’s historic estate will host an exhibit of table settings representing past and present. A display of 18th- and 19th-century tables recreated by curators will be on view in the 40-foot dining room\, while the dacha will house tables by local interior designers melding Merriweather Post’s inimitable style with their own modern sensibilities.
URL:https://www.homeanddesign.com/event/the-artistic-table/
LOCATION:HILLWOOD ESTATE\, MUSEUM & GARDENS
ATTACH;FMTTYPE=image/jpeg:https://www.homeanddesign.com/wp-content/uploads/2021/06/2015-2R-MAN-DR-004_o2.jpg
END:VEVENT
BEGIN:VEVENT
DTSTART;VALUE=DATE:20180215
DTEND;VALUE=DATE:20180709
DTSTAMP:20260419T195258
CREATED:20180216T161904Z
LAST-MODIFIED:20210611T152113Z
UID:68435-1518652800-1531094399@www.homeanddesign.com
SUMMARY:Hung Liu In Print
DESCRIPTION:Chinese-born artist Hung Liu\, who emigrated to the U.S. in 1984\, adapts historical Chinese photographs in her work. This exhibit assembles pieces that Liu has richly layered using printmaking and collage techniques\, resulting in compelling\, highly textured compositions.
URL:https://www.homeanddesign.com/event/hung-liu-in-print/
LOCATION:NATIONAL MUSEUM OF WOMEN IN THE ARTS
ATTACH;FMTTYPE=image/jpeg:https://www.homeanddesign.com/wp-content/uploads/2021/06/47.2013_Art-Camera_5-x-7-in.-at-300-dpi-_TIFF_.jpg
END:VEVENT
BEGIN:VEVENT
DTSTART;VALUE=DATE:20180215
DTEND;VALUE=DATE:20181008
DTSTAMP:20260419T195258
CREATED:20180216T160057Z
LAST-MODIFIED:20210611T151844Z
UID:68430-1518652800-1538956799@www.homeanddesign.com
SUMMARY:Crowning Glory:  Art of the Americas
DESCRIPTION:This exhibit reveals the many ways cultures throughout the Americas expressed power and identity by decorating and venerating the head. Spanning 2\,500 years\, 20 objects on display range from shaman headdresses to finely crafted ceramics.
URL:https://www.homeanddesign.com/event/crowning-glory-%e2%80%a8art-of-the-americas/
LOCATION:THE WALTERS  ART MUSEUM
ATTACH;FMTTYPE=image/jpeg:https://www.homeanddesign.com/wp-content/uploads/2021/06/DB_RS21382_PS1_2009.20.27_Fnt_DD_T10-hpr.jpg
END:VEVENT
BEGIN:VEVENT
DTSTART;VALUE=DATE:20180214
DTEND;VALUE=DATE:20180514
DTSTAMP:20260419T195258
CREATED:20171220T162137Z
LAST-MODIFIED:20210611T152402Z
UID:68439-1518566400-1526255999@www.homeanddesign.com
SUMMARY:Brand New: Art and Commodity in the 1980s
DESCRIPTION:The artistic appropriation of commercial products in the late 20th century is the subject of an exhibit examining New York’s downtown arts scene in the 1980s\, when artists began branding their work and their personas. Paintings\, sculptures and multimedia works by nearly 50 artists are showcased\, including Jeff Koons and Richard Prince.
URL:https://www.homeanddesign.com/event/brand-new-art-and-commodity-in-the-1980s/
LOCATION:HIRSHHORN MUSEUM AND SCULPTURE GARDEN
ATTACH;FMTTYPE=image/jpeg:https://www.homeanddesign.com/wp-content/uploads/2021/06/Wojnarowicz.jpg
END:VEVENT
BEGIN:VEVENT
DTSTART;VALUE=DATE:20180203
DTEND;VALUE=DATE:20180507
DTSTAMP:20260419T195258
CREATED:20171220T162428Z
LAST-MODIFIED:20210611T152631Z
UID:68444-1517616000-1525651199@www.homeanddesign.com
SUMMARY:Ten Americans After Paul Klee
DESCRIPTION:The seminal role Swiss artist Paul Klee played in the development of mid-century American art is the subject of an exhibit examining Klee’s work and its influence over important Abstract Expressionist and Color Field painters. Works by Gene Davis\, Robert Motherwell\, Jackson Pollock and others are part of the mix.
URL:https://www.homeanddesign.com/event/ten-americans-after-paul-klee/
LOCATION:The Phillips Collection
ATTACH;FMTTYPE=image/jpeg:https://www.homeanddesign.com/wp-content/uploads/2021/06/Phillips_Klee.jpg
END:VEVENT
BEGIN:VEVENT
DTSTART;VALUE=DATE:20180128
DTEND;VALUE=DATE:20180514
DTSTAMP:20260419T195258
CREATED:20171220T162958Z
LAST-MODIFIED:20210611T153153Z
UID:68452-1517097600-1526255999@www.homeanddesign.com
SUMMARY:Michel Sittow: Estonian Painter at the Courts of Renaissance Europe
DESCRIPTION:Marking the centennial of the establishment of the Republic of Estonia\, this monographic exhibit showcases some 20 works by Netherlandish Renaissance artist Michel Sittow\, who was much sought-after in European courts in his day.
URL:https://www.homeanddesign.com/event/michel-sittow-estonian-painter-at-the-courts-of-renaissance-europe/
LOCATION:National Gallery of Art
ATTACH;FMTTYPE=image/jpeg:https://www.homeanddesign.com/wp-content/uploads/2021/06/HP_3888-012.jpg
END:VEVENT
BEGIN:VEVENT
DTSTART;VALUE=DATE:20180128
DTEND;VALUE=DATE:20180514
DTSTAMP:20260419T195258
CREATED:20171220T162648Z
LAST-MODIFIED:20210611T152927Z
UID:68448-1517097600-1526255999@www.homeanddesign.com
SUMMARY:Outliers and American Vanguard Art
DESCRIPTION:This exhibit reveals 250 works from three periods when mainstream and outlier artists intersected\, ushering in new paradigms of inclusion\, integration and assimilation. Works by folk artists such as Charles Sheeler and Christina Ramberg are juxtaposed with those of self-taught artists including Horace Pippin and Janet Sobel.
URL:https://www.homeanddesign.com/event/outliers-and-american-vanguard-art/
LOCATION:National Gallery of Art
ATTACH;FMTTYPE=image/jpeg:https://www.homeanddesign.com/wp-content/uploads/2021/06/HP_4049-071.jpg
END:VEVENT
BEGIN:VEVENT
DTSTART;VALUE=DATE:20180119
DTEND;VALUE=DATE:20180122
DTSTAMP:20260419T195258
CREATED:20171220T163211Z
LAST-MODIFIED:20210611T153438Z
UID:68456-1516320000-1516579199@www.homeanddesign.com
SUMMARY:Home + Remodeling Show
DESCRIPTION:In addition to hundreds of vendors\, this year’s expo will feature a 1\,400-square-foot house showcasing small-space design ideas and the latest in furniture and accessories; workshops by Stylish Patina; and celebrity talks by HGTV’s Kitchen Cousins.
URL:https://www.homeanddesign.com/event/home-remodeling-show/
LOCATION:DULLES EXPO CENTER
ATTACH;FMTTYPE=image/jpeg:https://www.homeanddesign.com/wp-content/uploads/2021/06/remodeling.jpg
END:VEVENT
BEGIN:VEVENT
DTSTART;VALUE=DATE:20180112
DTEND;VALUE=DATE:20180115
DTSTAMP:20260419T195258
CREATED:20171220T163519Z
LAST-MODIFIED:20210611T153752Z
UID:68460-1515715200-1515974399@www.homeanddesign.com
SUMMARY:Washington Winter Show
DESCRIPTION:The Charm of Chinoiserie is the theme of this year’s event\, which will showcase the wares of more than 40 antiques dealers. Highlights include lectures by designer Charlotte Moss and The  Motley Fool founder David Garner\, plus guided walks\, dealer talks and a jazz night celebration.
URL:https://www.homeanddesign.com/event/washington-winter-show-3/
LOCATION:KATZEN ARTS CENTER
ATTACH;FMTTYPE=image/jpeg:https://www.homeanddesign.com/wp-content/uploads/2021/06/HP_chinoiserietilttop-2.jpg
END:VEVENT
END:VCALENDAR